View In:
ArcGIS JavaScript
ArcGIS Online Map Viewer
ArcGIS Earth
ArcMap
ArcGIS Pro
View Footprint In:
ArcGIS Online Map Viewer
Service Description: Basemap of Dare County.
Map Name: Layers
Legend
All Layers and Tables
Layers:
-
25 - 15M_36,978,595 (0)
-
15 - 5M_18,489,298 (12)
-
15 - 5M_9,244,649 (24)
-
5 - 3M_4,622,324 (36)
-
3 - 1.5M_2,311,162 (51)
-
1.5M - 750k_1,155,581 (67)
-
750 - 300k_577,791 (83)
-
300 - 150k_288,895 (100)
-
150 - 100k_144,448 (117)
-
100 - 50k_72,224 (132)
-
50 - 25k_36,112 (155)
-
25 - 15k_18,056 (178)
-
15 - 5k_9,028 (201)
-
5 - 2.5k_4,514 (224)
-
2.5k - 0_2,257 (252)
-
1128 (280)
Description:
Copyright Text: © OpenStreetMap contributors
Spatial Reference:
102100
(3857)
Single Fused Map Cache: true
Tile Info:
- Height: 256
- Width: 256
- DPI: 96
-
Levels of Detail: 16
-
Level ID: 0
[ Start Tile, End Tile ]
- Resolution: 9783.93962049996
- Scale: 3.6978595474472E7
-
Level ID: 1
[ Start Tile, End Tile ]
- Resolution: 4891.96981024998
- Scale: 1.8489297737236E7
- Format: PNG32
- Compression Quality: 0.0
- Origin: X: -2.0037508342787E7
Y: 2.0037508342787E7
- Spatial Reference: 102100
(3857)
Initial Extent:
XMin: -8708925.074547565
YMin: 4218518.386722288
XMax: -8197408.481263412
YMax: 4400438.51404092
Spatial Reference: 102100
Full Extent:
XMin: -8645788.08918404
YMin: 4129698.5598549563
XMax: -8260545.4666269375
YMax: 4396310.914513523
Spatial Reference: 102100
Units: esriMeters
Supported Image Format Types: PNG32,PNG24,PNG,JPG,DIB,TIFF,EMF,PS,PDF,GIF,SVG,SVGZ,BMP
Document Info:
Title: Basemap Template
Author: CompassData: Spencer Holliday
Comments: Basemap of Dare County.
Subject: Basemap of Dare County.
Category:
Keywords: CompassData
AntialiasingMode: None
TextAntialiasingMode: Force
Supports Dynamic Layers: false
MaxRecordCount: 1000
MaxImageHeight: 4096
MaxImageWidth: 4096
Supported Query Formats: JSON, geoJSON
Supports Query Data Elements:
Min Scale: 3.6978595474472E7
Max Scale: 1128.497176
Supports Datum Transformation: true
Child Resources:
Info
Supported Operations:
Export Map
QueryLegends
QueryDomains
Find
Return Updates