{
 "currentVersion": 10.91,
 "serviceDescription": "Imagery and roads of Preston County, West Virginia.",
 "mapName": "Layers",
 "description": "",
 "copyrightText": "© OpenStreetMap contributors",
 "supportsDynamicLayers": false,
 "layers": [
  {
   "id": 0,
   "name": "15 - 5k",
   "parentLayerId": -1,
   "defaultVisibility": false,
   "subLayerIds": [
    1,
    2,
    5,
    6,
    7,
    10,
    11,
    14
   ],
   "minScale": 15000,
   "maxScale": 5001,
   "type": "Group Layer"
  },
  {
   "id": 1,
   "name": "Cities (Labels Only)",
   "parentLayerId": 0,
   "defaultVisibility": true,
   "subLayerIds": null,
   "minScale": 0,
   "maxScale": 0,
   "type": "Feature Layer",
   "geometryType": "esriGeometryPoint"
  },
  {
   "id": 2,
   "name": "Transportation",
   "parentLayerId": 0,
   "defaultVisibility": true,
   "subLayerIds": [
    3,
    4
   ],
   "minScale": 0,
   "maxScale": 0,
   "type": "Group Layer"
  },
  {
   "id": 3,
   "name": "Railroads",
   "parentLayerId": 2,
   "defaultVisibility": true,
   "subLayerIds": null,
   "minScale": 0,
   "maxScale": 0,
   "type": "Feature Layer",
   "geometryType": "esriGeometryPolyline"
  },
  {
   "id": 4,
   "name": "Roads",
   "parentLayerId": 2,
   "defaultVisibility": true,
   "subLayerIds": null,
   "minScale": 0,
   "maxScale": 0,
   "type": "Feature Layer",
   "geometryType": "esriGeometryPolyline"
  },
  {
   "id": 5,
   "name": "Borders",
   "parentLayerId": 0,
   "defaultVisibility": true,
   "subLayerIds": null,
   "minScale": 0,
   "maxScale": 0,
   "type": "Feature Layer",
   "geometryType": "esriGeometryPolyline"
  },
  {
   "id": 6,
   "name": "Buildings",
   "parentLayerId": 0,
   "defaultVisibility": true,
   "subLayerIds": null,
   "minScale": 0,
   "maxScale": 0,
   "type": "Feature Layer",
   "geometryType": "esriGeometryPolygon"
  },
  {
   "id": 7,
   "name": "Hydrology",
   "parentLayerId": 0,
   "defaultVisibility": true,
   "subLayerIds": [
    8,
    9
   ],
   "minScale": 0,
   "maxScale": 0,
   "type": "Group Layer"
  },
  {
   "id": 8,
   "name": "Water Segments",
   "parentLayerId": 7,
   "defaultVisibility": true,
   "subLayerIds": null,
   "minScale": 0,
   "maxScale": 0,
   "type": "Feature Layer",
   "geometryType": "esriGeometryPolyline"
  },
  {
   "id": 9,
   "name": "Water Areas",
   "parentLayerId": 7,
   "defaultVisibility": true,
   "subLayerIds": null,
   "minScale": 0,
   "maxScale": 0,
   "type": "Feature Layer",
   "geometryType": "esriGeometryPolygon"
  },
  {
   "id": 10,
   "name": "Landuse",
   "parentLayerId": 0,
   "defaultVisibility": true,
   "subLayerIds": null,
   "minScale": 0,
   "maxScale": 0,
   "type": "Feature Layer",
   "geometryType": "esriGeometryPolygon"
  },
  {
   "id": 11,
   "name": "Land",
   "parentLayerId": 0,
   "defaultVisibility": true,
   "subLayerIds": [
    12,
    13
   ],
   "minScale": 0,
   "maxScale": 0,
   "type": "Group Layer"
  },
  {
   "id": 12,
   "name": "AOI",
   "parentLayerId": 11,
   "defaultVisibility": true,
   "subLayerIds": null,
   "minScale": 0,
   "maxScale": 0,
   "type": "Feature Layer",
   "geometryType": "esriGeometryPolygon"
  },
  {
   "id": 13,
   "name": "Countries",
   "parentLayerId": 11,
   "defaultVisibility": true,
   "subLayerIds": null,
   "minScale": 0,
   "maxScale": 0,
   "type": "Feature Layer",
   "geometryType": "esriGeometryPolygon"
  },
  {
   "id": 14,
   "name": "Water Background",
   "parentLayerId": 0,
   "defaultVisibility": true,
   "subLayerIds": null,
   "minScale": 0,
   "maxScale": 0,
   "type": "Feature Layer",
   "geometryType": "esriGeometryPolygon"
  }
 ],
 "tables": [],
 "spatialReference": {
  "wkid": 102100,
  "latestWkid": 3857
 },
 "singleFusedMapCache": true,
 "tileInfo": {
  "rows": 256,
  "cols": 256,
  "dpi": 96,
  "format": "MIXED",
  "compressionQuality": 75,
  "origin": {
   "x": -2.204125862706707E7,
   "y": 3.3265069154240012E7
  },
  "spatialReference": {
   "wkid": 102100,
   "latestWkid": 3857
  },
  "lods": [
   {
    "level": 0,
    "resolution": 6614.596562526459,
    "scale": 25000000
   },
   {
    "level": 1,
    "resolution": 3968.7579375158753,
    "scale": 15000000
   },
   {
    "level": 2,
    "resolution": 1322.9193125052918,
    "scale": 5000000
   },
   {
    "level": 3,
    "resolution": 793.7515875031751,
    "scale": 3000000
   },
   {
    "level": 4,
    "resolution": 396.87579375158754,
    "scale": 1500000
   },
   {
    "level": 5,
    "resolution": 198.43789687579377,
    "scale": 750000
   },
   {
    "level": 6,
    "resolution": 79.37515875031751,
    "scale": 300000
   },
   {
    "level": 7,
    "resolution": 39.687579375158755,
    "scale": 150000
   },
   {
    "level": 8,
    "resolution": 26.458386250105836,
    "scale": 100000
   },
   {
    "level": 9,
    "resolution": 13.229193125052918,
    "scale": 50000
   },
   {
    "level": 10,
    "resolution": 6.614596562526459,
    "scale": 25000
   },
   {
    "level": 11,
    "resolution": 3.9687579375158752,
    "scale": 15000
   },
   {
    "level": 12,
    "resolution": 1.3229193125052918,
    "scale": 5000
   },
   {
    "level": 13,
    "resolution": 0.6614596562526459,
    "scale": 2500
   }
  ]
 },
 "initialExtent": {
  "xmin": -2.209446909694498E7,
  "ymin": -254894.90209966153,
  "xmax": 4482979.891286336,
  "ymax": 1.4374190852229388E7,
  "spatialReference": {
   "cs": "pcs",
   "wkid": 102100
  }
 },
 "fullExtent": {
  "xmin": -2.209446909694498E7,
  "ymin": -3596528.0863266448,
  "xmax": 4482979.891286334,
  "ymax": 1.305902605811498E7,
  "spatialReference": {
   "cs": "pcs",
   "wkid": 102100
  }
 },
 "minScale": 25000000,
 "maxScale": 2500,
 "units": "esriMeters",
 "supportedImageFormatTypes": "PNG32,PNG24,PNG,JPG,DIB,TIFF,EMF,PS,PDF,GIF,SVG,SVGZ,BMP",
 "documentInfo": {
  "Title": "Basemap Template",
  "Author": "CompassData: Spencer Holliday",
  "Comments": "Imagery and roads of Preston County, West Virginia.",
  "Subject": "Imagery and roads of Preston County, West Virginia.",
  "Category": "",
  "AntialiasingMode": "None",
  "TextAntialiasingMode": "Force",
  "Keywords": "CompassData"
 },
 "capabilities": "Map",
 "supportedQueryFormats": "JSON, geoJSON",
 "exportTilesAllowed": false,
 "referenceScale": 0,
 "supportsDatumTransformation": true,
 "maxRecordCount": 1000,
 "maxImageHeight": 4096,
 "maxImageWidth": 4096,
 "supportedExtensions": ""
}
